BEGIN:VCALENDAR
VERSION:2.0
PRODID:-//ActionCOACH - ECPv6.15.13.1//NONSGML v1.0//EN
CALSCALE:GREGORIAN
METHOD:PUBLISH
X-ORIGINAL-URL:https://billgilliland.biz
X-WR-CALDESC:Events for ActionCOACH
REFRESH-INTERVAL;VALUE=DURATION:PT1H
X-Robots-Tag:noindex
X-PUBLISHED-TTL:PT1H
BEGIN:VTIMEZONE
TZID:America/New_York
BEGIN:DAYLIGHT
TZOFFSETFROM:-0500
TZOFFSETTO:-0400
TZNAME:EDT
DTSTART:20240310T070000
END:DAYLIGHT
BEGIN:STANDARD
TZOFFSETFROM:-0400
TZOFFSETTO:-0500
TZNAME:EST
DTSTART:20241103T060000
END:STANDARD
BEGIN:DAYLIGHT
TZOFFSETFROM:-0500
TZOFFSETTO:-0400
TZNAME:EDT
DTSTART:20250309T070000
END:DAYLIGHT
BEGIN:STANDARD
TZOFFSETFROM:-0400
TZOFFSETTO:-0500
TZNAME:EST
DTSTART:20251102T060000
END:STANDARD
BEGIN:DAYLIGHT
TZOFFSETFROM:-0500
TZOFFSETTO:-0400
TZNAME:EDT
DTSTART:20260308T070000
END:DAYLIGHT
BEGIN:STANDARD
TZOFFSETFROM:-0400
TZOFFSETTO:-0500
TZNAME:EST
DTSTART:20261101T060000
END:STANDARD
END:VTIMEZONE
BEGIN:VEVENT
DTSTART;TZID=America/New_York:20250624T100000
DTEND;TZID=America/New_York:20250624T143000
DTSTAMP:20260425T232908
CREATED:20250509T012901Z
LAST-MODIFIED:20250624T155627Z
UID:1844-1750759200-1750775400@billgilliland.biz
SUMMARY:Quarterly Business MasterMind & Workshop For Contractors & Home Services
DESCRIPTION:Mastermind and workshop with other contractors and home services business owners. Leave with a clear action plan for Quarter 3 of 2025.\n\n\n \nDo you have a strategic plan for your trades business?\n \nMost trades businesses have challenges that hold them back from growth.\nDuring this quarterly workshop\, trades business owners like you\, get together to share ideas and learnings\, help each other grow\, and work out their strategic plan for the upcoming quarter.\n\n“The biggest risk you can take is to do nothing.” – Brad Sugars\nAre you ready to take action?\n\nContact Jason at JasonBerry@ActionCoach.com or 828-234-8848 with any questions.\n\n\nThe workshop is located on the 3rd floor of The Factory at Congdon Yards meeting space. Shortly after you register\, you will also receive an email that includes notes on parking\, and a short video showing you exactly where our space is located.\n \nIt is highly recommended you bring your spouse and/or business partner\, as they will also bring valuable perspective on your goals & plan.\n \nArrive 9:45am for check-in so we can get started promptly at 10:00
URL:https://billgilliland.biz/event/quarterly-business-mastermind-workshop-for-contractors-home-services/
LOCATION:400 W English Rd\, 400 West English Road\, High Point\, NC\, 27262\, United States
ATTACH;FMTTYPE=image/jpeg:https://billgilliland.biz/wp-content/uploads/2025/05/1e88ed99ca944aecf41a498ce20c5f7b-Tr4Kwv.tmp_.jpg
END:VEVENT
END:VCALENDAR