BEGIN:VCALENDAR
VERSION:2.0
PRODID:-//ActionCOACH - ECPv6.15.13.1//NONSGML v1.0//EN
CALSCALE:GREGORIAN
METHOD:PUBLISH
X-WR-CALNAME:ActionCOACH
X-ORIGINAL-URL:https://billgilliland.biz
X-WR-CALDESC:Events for ActionCOACH
REFRESH-INTERVAL;VALUE=DURATION:PT1H
X-Robots-Tag:noindex
X-PUBLISHED-TTL:PT1H
BEGIN:VTIMEZONE
TZID:America/New_York
BEGIN:DAYLIGHT
TZOFFSETFROM:-0500
TZOFFSETTO:-0400
TZNAME:EDT
DTSTART:20250309T070000
END:DAYLIGHT
BEGIN:STANDARD
TZOFFSETFROM:-0400
TZOFFSETTO:-0500
TZNAME:EST
DTSTART:20251102T060000
END:STANDARD
BEGIN:DAYLIGHT
TZOFFSETFROM:-0500
TZOFFSETTO:-0400
TZNAME:EDT
DTSTART:20260308T070000
END:DAYLIGHT
BEGIN:STANDARD
TZOFFSETFROM:-0400
TZOFFSETTO:-0500
TZNAME:EST
DTSTART:20261101T060000
END:STANDARD
BEGIN:DAYLIGHT
TZOFFSETFROM:-0500
TZOFFSETTO:-0400
TZNAME:EDT
DTSTART:20270314T070000
END:DAYLIGHT
BEGIN:STANDARD
TZOFFSETFROM:-0400
TZOFFSETTO:-0500
TZNAME:EST
DTSTART:20271107T060000
END:STANDARD
END:VTIMEZONE
BEGIN:VEVENT
DTSTART;TZID=America/New_York:20260205T083000
DTEND;TZID=America/New_York:20260206T150000
DTSTAMP:20260425T124500
CREATED:20260121T112627Z
LAST-MODIFIED:20260121T112627Z
UID:3780-1770280200-1770390000@billgilliland.biz
SUMMARY:PlanningCLUB: Build Your 5-Year Business Plan in 2 Days
DESCRIPTION:Join us at PlanningCLUB to spend 2 days crafting a killer 5-year business plan together!\n\n\nPlanningCLUB: Build Your 5-Year Business Plan in 2 Days \nTwo Days. One Plan. Total Clarity.\nYou’d never build a house without a blueprint\, and yet most business owners try to grow without a plan. \nPlanningCLUB gives you two focused days to step out of the day-to-day whirlwind and finally work on your business\, not just in it. \nYou’ll collaborate with experienced business coaches and other driven entrepreneurs to create a complete 5-year plan\, one that gives you control\, direction\, and confidence about where your business is headed. \n \nWhy It Matters\nRunning a business without a plan leads to reaction mode: constant firefighting\, scattered focus\, and unpredictable results. \nPlanningCLUB is your reset button. \nYou’ll actually build your plan\, right there in the room with our expert coaches and proven frameworks used by thousands of successful business owners worldwide. \n \nWhat You’ll Walk Away With\n✅ A clear\, actionable 5-year roadmap for your business \n✅ Key financial drivers identified — profit\, cash flow\, growth metrics \n✅ Strategies to improve time\, team\, and cashflow \n✅ A written plan you can share with your team\, bank\, or investors \n✅ Renewed energy\, focus\, and accountability to execute \nBy the end of Day Two\, you’ll have your plan built\, printed\, and ready to implement. \n \nWho It’s For\n\nBusiness owners who are tired of operating on gut instinct\nLeaders who want clarity for the next phase of growth\nTeams that need alignment and a shared direction\nEntrepreneurs ready to turn ideas into a concrete action plan\nOwners who want to build a succession plan and exit their business\n\nWhether you’re growing fast or trying to get unstuck\, PlanningCLUB will help you see the bigger picture and move forward with confidence. \n \nWhat to Expect\n📅 2 Full Days – February 5 – 6\, 2026 \n🕗 8:30 AM – 8:00 PM (Day 1) \n🕗 8:30 AM – 3:00 PM (Day 2) \n🍽️ Includes 2 lunches and 1 dinner \n———– \nLed by Bill Gilliland\, Master Coach with ActionCOACH Business Growth Partners\, you’ll spend two days surrounded by supportive\, ambitious business owners and walk away with your next five years mapped out. \n\nReady to Plan the Next Five Years of Your Business?\nIf you’ve been meaning to pause\, refocus\, and get a real plan together then this is your chance. \nYou’ll spend two days working on your business\, and walk away with clarity most owners never get.
URL:https://billgilliland.biz/event/planningclub-build-your-5-year-business-plan-in-2-days-2/
LOCATION:Montreat Conference Center\, 401 Assembly Drive\, Montreat\, NC\, 28757\, United States
ATTACH;FMTTYPE=image/jpeg:https://billgilliland.biz/wp-content/uploads/2025/10/e9c716e7a2e4379d06b155c59880be52-zN15d4.tmp_.jpg
END:VEVENT
END:VCALENDAR