BEGIN:VCALENDAR
VERSION:2.0
PRODID:-//ActionCOACH - ECPv6.15.13.1//NONSGML v1.0//EN
CALSCALE:GREGORIAN
METHOD:PUBLISH
X-WR-CALNAME:ActionCOACH
X-ORIGINAL-URL:https://billgilliland.biz
X-WR-CALDESC:Events for ActionCOACH
REFRESH-INTERVAL;VALUE=DURATION:PT1H
X-Robots-Tag:noindex
X-PUBLISHED-TTL:PT1H
BEGIN:VTIMEZONE
TZID:America/New_York
BEGIN:DAYLIGHT
TZOFFSETFROM:-0500
TZOFFSETTO:-0400
TZNAME:EDT
DTSTART:20240310T070000
END:DAYLIGHT
BEGIN:STANDARD
TZOFFSETFROM:-0400
TZOFFSETTO:-0500
TZNAME:EST
DTSTART:20241103T060000
END:STANDARD
BEGIN:DAYLIGHT
TZOFFSETFROM:-0500
TZOFFSETTO:-0400
TZNAME:EDT
DTSTART:20250309T070000
END:DAYLIGHT
BEGIN:STANDARD
TZOFFSETFROM:-0400
TZOFFSETTO:-0500
TZNAME:EST
DTSTART:20251102T060000
END:STANDARD
BEGIN:DAYLIGHT
TZOFFSETFROM:-0500
TZOFFSETTO:-0400
TZNAME:EDT
DTSTART:20260308T070000
END:DAYLIGHT
BEGIN:STANDARD
TZOFFSETFROM:-0400
TZOFFSETTO:-0500
TZNAME:EST
DTSTART:20261101T060000
END:STANDARD
END:VTIMEZONE
BEGIN:VEVENT
DTSTART;TZID=America/New_York:20251204T153000
DTEND;TZID=America/New_York:20251204T170000
DTSTAMP:20260425T141007
CREATED:20250509T013320Z
LAST-MODIFIED:20250905T060401Z
UID:1912-1764862200-1764867600@billgilliland.biz
SUMMARY:Business MasterCLASS
DESCRIPTION:Are you looking to increase your business’s profitability and freedom? This 12-week Business Masterclass will help you achieve it.\n\n\nLearn the key fundamentals of business in an environment of learning\, sharing and collective accountability with Business MasterCLASS \n \nGraduating from the Business Masterclass will help you …\n \nGain Control of Your Business\nYou deserve to have full control\, to make your own choices and set your own priorities. Get your business working for you\, not the other way around. \nBoost Your Financial Results\nInvest your time in only the highest-value activities that drive your business forward\, increasing your financial rewards. \nImprove Your Quality of Life\nWhether its the school run or traveling\, free yourself from the burden of running your business. Let it thrive\, so you can focus on what truly matters. \n\n\n\nBUSINESS SUCCESS \nImagine Having the Confidence to Build a Business That Could Work Without You…\nBeing in business should give you more life\, but most don’t. In this Business Masterclass\, your designated Action Coach will teach you how to win more time back\, how to build a winning team\, and strategies that will improve your business profit. \n \nBy investing your time to work ON your business you’ll get:\n\nA world-class personal and business development program that’s proven to deliver results\nThe ability to learn\, share and grow with others without fear of judgement giving you a sense of belonging\nRecognition of your achievements by your peers which you can filter down to your team\nAccountability to achieve your business and personal goals\n\n\n\n\nBUSINESS FREEDOM \nWould you like to experience the following?\nUnlock a world of possibilities through Business MasterCLASS\, where personal development takes center stage and proven results are the norm. \n \nBy investing your time to work ON your business you’ll get:\n\nA world-class personal development program that’s proven to deliver results\nThe ability to learn\, share and grow with others without fear of judgement giving you a sense of belonging\nRecognition of your achievements by your peers which you can filter down to your team\nAccountability to achieve your business and personal goals\n\n\n\n\nGUIDING YOUR CLARITY AND CONFIDENCE\n \n\nHighly-focused group coaching sessions with a certified world-class business coach.\nProven strategies\, tools\, frameworks and systems to implement into your business..\nA source of inspiration and new ideas to help you take your business and life to the next level.\nGet clarity on what’s important and new perspectives\, allowing you to make the right choices.\nBuild your leadership skills to build a productive environment with a motivated team.\nGain access to resources and strategies that will make your business stand out from the rest.\nInteractive sessions with peers\, emphasising learning through activities..
URL:https://billgilliland.biz/event/business-masterclass-30/
LOCATION:NC
ATTACH;FMTTYPE=image/jpeg:https://billgilliland.biz/wp-content/uploads/2025/06/a4467f0ac98c1317bc3f0c7f3eaf8fe6.jpg
END:VEVENT
BEGIN:VEVENT
DTSTART;TZID=America/New_York:20251209T083000
DTEND;TZID=America/New_York:20251209T160000
DTSTAMP:20260425T141007
CREATED:20251028T141132Z
LAST-MODIFIED:20251208T135749Z
UID:3697-1765269000-1765296000@billgilliland.biz
SUMMARY:Entrepreneur GrowthCLUB and 90 Day Planning Session
DESCRIPTION:Goal setting and planning leads to clarity and confidence in your action plan. Get different results next year! Join us…\n\n\nLearn More in One Day Than You Have in the Last Six Months\nJoin us on December 9 for a high-energy workshop built to help you make 2026 your best year ever. \nThis isn’t another seminar where you take notes and forget them later. You’ll spend the morning learning practical strategies and the afternoon building a 90-day plan you can actually execute. \n \n\n\nThe Morning: Education & Business Mastermind\nYou’ll get insights from international speakers\, coaching perspectives\, and lessons from Brad Sugars. \nThen you’ll meet with your group to talk through the takeaways that matter most and how they apply to your business. \nYou’ll also learn systems that have been tested and refined for 30 years — frameworks designed to build a business that works without you doing everything. \n \nThe Afternoon: Build Your 90-Day Plan\nThis is where everything comes together. GrowthCLUB is all about leaving with a clear\, realistic action plan for the next 90 days. \nYou’ll set three priority goals\, outline the steps\, assign timing\, and walk out with a one-page dashboard to keep yourself on track. If you want 2026 to look different\, this is where that shift starts. \n \n\n\n\n\nWho This Is For\n\nBusiness owners who want practical tools\, peer support\, and a clear plan for their next quarter.\nEspecially helpful for service-based businesses and owners leading small teams.\n\n \nEvent Details\nLocation: \n21 Restaurant CtAsheville\, NC 28805 \nLunch\, materials and a workbook are included. \nBring your numbers\, your biggest challenges\, and a laptop or notebook. \nSeats are limited. This is a hands-on session where active participation matters. Reserve your spot now.
URL:https://billgilliland.biz/event/entrepreneur-growthclub-and-90-day-planning-session/
LOCATION:21 Restaurant Ct\, 21 Restaurant Court\, Asheville\, NC\, 28805\, United States
ATTACH;FMTTYPE=image/png:https://billgilliland.biz/wp-content/uploads/2025/10/0259afb3658dfbac01dbbdc39ac51e00-Di21ZN.tmp_.png
END:VEVENT
BEGIN:VEVENT
DTSTART;TZID=America/New_York:20251211T090000
DTEND;TZID=America/New_York:20251211T143000
DTSTAMP:20260425T141007
CREATED:20251127T125909Z
LAST-MODIFIED:20251211T152106Z
UID:3749-1765443600-1765463400@billgilliland.biz
SUMMARY:Entrepreneur GrowthCLUB and 90 Day Planning Session
DESCRIPTION:Make 2026 your best year ever! [ BY DESIGN ] Join us to work on your action plan and get ideas from others in the room…\n\n\nLearn More in One Day Than You Have in the Last Six Months\nJoin us on December 9 for a high-energy workshop built to help you make 2026 your best year ever. \nThis isn’t another seminar where you take notes and forget them later. You’ll spend the morning learning practical strategies and the afternoon building a 90-day plan you can actually execute. \n \n\n\nThe Morning: Education & Business Mastermind\nYou’ll get insights from international speakers\, coaching perspectives\, and lessons from Brad Sugars. \nThen you’ll meet with your group to talk through the takeaways that matter most and how they apply to your business. \nYou’ll also learn systems that have been tested and refined for 30 years — frameworks designed to build a business that works without you doing everything. \n \nThe Afternoon: Build Your 90-Day Plan\nThis is where everything comes together. GrowthCLUB is all about leaving with a clear\, realistic action plan for the next 90 days. \nYou’ll set three priority goals\, outline the steps\, assign timing\, and walk out with a one-page dashboard to keep yourself on track. If you want 2026 to look different\, this is where that shift starts. \n \n\n\n\n\nWho This Is For\n\nBusiness owners who want practical tools\, peer support\, and a clear plan for their next quarter.\nEspecially helpful for service-based businesses and owners leading small teams.\n\n \nEvent Details\nLocation: \n21 Restaurant CtAsheville\, NC 28805 \nLunch\, materials and a workbook are included. \nBring your numbers\, your biggest challenges\, and a laptop or notebook. \nSeats are limited. This is a hands-on session where active participation matters. Reserve your spot now.
URL:https://billgilliland.biz/event/entrepreneur-growthclub-and-90-day-planning-session-2/
LOCATION:21 Restaurant Ct\, 21 Restaurant Court\, Asheville\, NC\, 28805\, United States
ATTACH;FMTTYPE=image/png:https://billgilliland.biz/wp-content/uploads/2025/11/bea7bba0172cdd3fef61f739e5d83645-ZEnOOl.tmp_.png
END:VEVENT
BEGIN:VEVENT
DTSTART;TZID=America/New_York:20251211T090000
DTEND;TZID=America/New_York:20251211T143000
DTSTAMP:20260425T141007
CREATED:20251127T125910Z
LAST-MODIFIED:20251211T152106Z
UID:3753-1765443600-1765463400@billgilliland.biz
SUMMARY:Quarterly Trades Business MasterMind & Planning Workshop
DESCRIPTION:Make 2026 the best year ever in your trades business! [ by design ] Join a group of trades business owners to work on your action plan.\n\n\nDo you have a strategic plan for your trades business? \n \nWe are on a mission to transform 250 trades businesses in 2026. \nBehind every ABoS (Action Business Operating System) install is a business owner sleeping better at night. A spouse who sees their partner at the dinner table. A child who gets to grow up with a parent fully present. A leader who finally feels in control. \n \nDuring this quarterly workshop\, trades business owners like you\, gather to share ideas and learnings\, help each other grow\, and work out their strategic action plan for the upcoming quarter.\n \n“The biggest risk you can take is to do nothing.” – Brad Sugars \nAre you ready to take action? \n \nContact Jason at JasonBerry@ActionCOACH.com or 828-234-8848 with any questions. \n\n\nThe workshop is located on the 2nd floor of the High Point Public Library meeting space. There is a customer service desk in the central area. Just ask the team there to direct you. There is plenty of parking. \n \nIt is highly recommended you bring your spouse and/or business partner\, as they will also bring valuable perspective on your goals & plan. \n \nArrive 8:45am for check-in so we can get started promptly at 9:00
URL:https://billgilliland.biz/event/quarterly-trades-business-mastermind-planning-workshop/
LOCATION:High Point Public Library\, 901 North Main Street\, High Point\, NC\, 27262\, United States
ATTACH;FMTTYPE=image/png:https://billgilliland.biz/wp-content/uploads/2025/11/1fc4db4f7a9e6a22722b3969a34324e9-qRM33s.tmp_.png
END:VEVENT
BEGIN:VEVENT
DTSTART;TZID=America/New_York:20251211T100000
DTEND;TZID=America/New_York:20251211T143000
DTSTAMP:20260425T141007
CREATED:20250509T013321Z
LAST-MODIFIED:20251125T142002Z
UID:1913-1765447200-1765463400@billgilliland.biz
SUMMARY:Plan for 2026 success with fellow business owners
DESCRIPTION:Triad Business Owners: Drive growth\, network\, and gain proven strategies at our next quarterly workshop in High Point. Take action!\n\n\nReady to take your business to the next level? Join ActionCOACH | Business Growth Partners for a high-impact opportunity to connect with Triad business owners\, share wins and challenges\, and gain actionable strategies to drive growth. \nYou’ll leave with fresh insights\, renewed motivation\, an action plan for the upcoming quarter\, and valuable connections. \nThis is your chance to: \n\nLearn: Discover proven ActionCOACH strategies.\nNetwork: Build relationships with other local business owners.\nGrow: Take concrete steps to improve your business.\n\nDon’t miss this opportunity to invest in your business and yourself! \nAgenda: \n\n10:00 AM – 11:45 AM: Introductions\, Wins & Challenges\n11:45 AM – 12:15 PM: Lunch (provided)\n12:15 PM – 1:30 PM: MasterMind Sessions\n1:30 PM – 2:30 PM: Create Your Action Plan\n\nAdditional Details: \n\nThis is a recurring event\, held quarterly in High Point.\nHosted by ActionCOACH | Business Growth Partners\, your experts in business growth in the Carolinas.
URL:https://billgilliland.biz/event/plan-for-2026-success-with-fellow-business-owners/
LOCATION:Congdon Yards\, 410 West English Road\, High Point\, NC\, 27262\, United States
ATTACH;FMTTYPE=image/jpeg:https://billgilliland.biz/wp-content/uploads/2025/08/790af370662d811efabd21cb153ae007.jpg
END:VEVENT
BEGIN:VEVENT
DTSTART;TZID=America/New_York:20251211T153000
DTEND;TZID=America/New_York:20251211T170000
DTSTAMP:20260425T141007
CREATED:20250509T013323Z
LAST-MODIFIED:20250905T060402Z
UID:1914-1765467000-1765472400@billgilliland.biz
SUMMARY:Business MasterCLASS
DESCRIPTION:Are you looking to increase your business’s profitability and freedom? This 12-week Business Masterclass will help you achieve it.\n\n\nLearn the key fundamentals of business in an environment of learning\, sharing and collective accountability with Business MasterCLASS \n \nGraduating from the Business Masterclass will help you …\n \nGain Control of Your Business\nYou deserve to have full control\, to make your own choices and set your own priorities. Get your business working for you\, not the other way around. \nBoost Your Financial Results\nInvest your time in only the highest-value activities that drive your business forward\, increasing your financial rewards. \nImprove Your Quality of Life\nWhether its the school run or traveling\, free yourself from the burden of running your business. Let it thrive\, so you can focus on what truly matters. \n\n\n\nBUSINESS SUCCESS \nImagine Having the Confidence to Build a Business That Could Work Without You…\nBeing in business should give you more life\, but most don’t. In this Business Masterclass\, your designated Action Coach will teach you how to win more time back\, how to build a winning team\, and strategies that will improve your business profit. \n \nBy investing your time to work ON your business you’ll get:\n\nA world-class personal and business development program that’s proven to deliver results\nThe ability to learn\, share and grow with others without fear of judgement giving you a sense of belonging\nRecognition of your achievements by your peers which you can filter down to your team\nAccountability to achieve your business and personal goals\n\n\n\n\nBUSINESS FREEDOM \nWould you like to experience the following?\nUnlock a world of possibilities through Business MasterCLASS\, where personal development takes center stage and proven results are the norm. \n \nBy investing your time to work ON your business you’ll get:\n\nA world-class personal development program that’s proven to deliver results\nThe ability to learn\, share and grow with others without fear of judgement giving you a sense of belonging\nRecognition of your achievements by your peers which you can filter down to your team\nAccountability to achieve your business and personal goals\n\n\n\n\nGUIDING YOUR CLARITY AND CONFIDENCE\n \n\nHighly-focused group coaching sessions with a certified world-class business coach.\nProven strategies\, tools\, frameworks and systems to implement into your business..\nA source of inspiration and new ideas to help you take your business and life to the next level.\nGet clarity on what’s important and new perspectives\, allowing you to make the right choices.\nBuild your leadership skills to build a productive environment with a motivated team.\nGain access to resources and strategies that will make your business stand out from the rest.\nInteractive sessions with peers\, emphasising learning through activities..
URL:https://billgilliland.biz/event/business-masterclass-31/
LOCATION:NC
ATTACH;FMTTYPE=image/jpeg:https://billgilliland.biz/wp-content/uploads/2025/06/a4467f0ac98c1317bc3f0c7f3eaf8fe6.jpg
END:VEVENT
BEGIN:VEVENT
DTSTART;TZID=America/New_York:20251218T153000
DTEND;TZID=America/New_York:20251218T170000
DTSTAMP:20260425T141007
CREATED:20250509T013324Z
LAST-MODIFIED:20250905T060403Z
UID:1915-1766071800-1766077200@billgilliland.biz
SUMMARY:Business MasterCLASS
DESCRIPTION:Are you looking to increase your business’s profitability and freedom? This 12-week Business Masterclass will help you achieve it.\n\n\nLearn the key fundamentals of business in an environment of learning\, sharing and collective accountability with Business MasterCLASS \n \nGraduating from the Business Masterclass will help you …\n \nGain Control of Your Business\nYou deserve to have full control\, to make your own choices and set your own priorities. Get your business working for you\, not the other way around. \nBoost Your Financial Results\nInvest your time in only the highest-value activities that drive your business forward\, increasing your financial rewards. \nImprove Your Quality of Life\nWhether its the school run or traveling\, free yourself from the burden of running your business. Let it thrive\, so you can focus on what truly matters. \n\n\n\nBUSINESS SUCCESS \nImagine Having the Confidence to Build a Business That Could Work Without You…\nBeing in business should give you more life\, but most don’t. In this Business Masterclass\, your designated Action Coach will teach you how to win more time back\, how to build a winning team\, and strategies that will improve your business profit. \n \nBy investing your time to work ON your business you’ll get:\n\nA world-class personal and business development program that’s proven to deliver results\nThe ability to learn\, share and grow with others without fear of judgement giving you a sense of belonging\nRecognition of your achievements by your peers which you can filter down to your team\nAccountability to achieve your business and personal goals\n\n\n\n\nBUSINESS FREEDOM \nWould you like to experience the following?\nUnlock a world of possibilities through Business MasterCLASS\, where personal development takes center stage and proven results are the norm. \n \nBy investing your time to work ON your business you’ll get:\n\nA world-class personal development program that’s proven to deliver results\nThe ability to learn\, share and grow with others without fear of judgement giving you a sense of belonging\nRecognition of your achievements by your peers which you can filter down to your team\nAccountability to achieve your business and personal goals\n\n\n\n\nGUIDING YOUR CLARITY AND CONFIDENCE\n \n\nHighly-focused group coaching sessions with a certified world-class business coach.\nProven strategies\, tools\, frameworks and systems to implement into your business..\nA source of inspiration and new ideas to help you take your business and life to the next level.\nGet clarity on what’s important and new perspectives\, allowing you to make the right choices.\nBuild your leadership skills to build a productive environment with a motivated team.\nGain access to resources and strategies that will make your business stand out from the rest.\nInteractive sessions with peers\, emphasising learning through activities..
URL:https://billgilliland.biz/event/business-masterclass-32/
LOCATION:NC
ATTACH;FMTTYPE=image/jpeg:https://billgilliland.biz/wp-content/uploads/2025/06/a4467f0ac98c1317bc3f0c7f3eaf8fe6.jpg
END:VEVENT
BEGIN:VEVENT
DTSTART;TZID=America/New_York:20251225T153000
DTEND;TZID=America/New_York:20251225T170000
DTSTAMP:20260425T141007
CREATED:20250509T013326Z
LAST-MODIFIED:20250905T060403Z
UID:1916-1766676600-1766682000@billgilliland.biz
SUMMARY:Business MasterCLASS
DESCRIPTION:Are you looking to increase your business’s profitability and freedom? This 12-week Business Masterclass will help you achieve it.\n\n\nLearn the key fundamentals of business in an environment of learning\, sharing and collective accountability with Business MasterCLASS \n \nGraduating from the Business Masterclass will help you …\n \nGain Control of Your Business\nYou deserve to have full control\, to make your own choices and set your own priorities. Get your business working for you\, not the other way around. \nBoost Your Financial Results\nInvest your time in only the highest-value activities that drive your business forward\, increasing your financial rewards. \nImprove Your Quality of Life\nWhether its the school run or traveling\, free yourself from the burden of running your business. Let it thrive\, so you can focus on what truly matters. \n\n\n\nBUSINESS SUCCESS \nImagine Having the Confidence to Build a Business That Could Work Without You…\nBeing in business should give you more life\, but most don’t. In this Business Masterclass\, your designated Action Coach will teach you how to win more time back\, how to build a winning team\, and strategies that will improve your business profit. \n \nBy investing your time to work ON your business you’ll get:\n\nA world-class personal and business development program that’s proven to deliver results\nThe ability to learn\, share and grow with others without fear of judgement giving you a sense of belonging\nRecognition of your achievements by your peers which you can filter down to your team\nAccountability to achieve your business and personal goals\n\n\n\n\nBUSINESS FREEDOM \nWould you like to experience the following?\nUnlock a world of possibilities through Business MasterCLASS\, where personal development takes center stage and proven results are the norm. \n \nBy investing your time to work ON your business you’ll get:\n\nA world-class personal development program that’s proven to deliver results\nThe ability to learn\, share and grow with others without fear of judgement giving you a sense of belonging\nRecognition of your achievements by your peers which you can filter down to your team\nAccountability to achieve your business and personal goals\n\n\n\n\nGUIDING YOUR CLARITY AND CONFIDENCE\n \n\nHighly-focused group coaching sessions with a certified world-class business coach.\nProven strategies\, tools\, frameworks and systems to implement into your business..\nA source of inspiration and new ideas to help you take your business and life to the next level.\nGet clarity on what’s important and new perspectives\, allowing you to make the right choices.\nBuild your leadership skills to build a productive environment with a motivated team.\nGain access to resources and strategies that will make your business stand out from the rest.\nInteractive sessions with peers\, emphasising learning through activities..
URL:https://billgilliland.biz/event/business-masterclass-33/
LOCATION:NC
ATTACH;FMTTYPE=image/jpeg:https://billgilliland.biz/wp-content/uploads/2025/06/a4467f0ac98c1317bc3f0c7f3eaf8fe6.jpg
END:VEVENT
END:VCALENDAR